BEGIN:VCALENDAR
VERSION:2.0
PRODID:-//IAMCP UK - ECPv6.15.20//NONSGML v1.0//EN
CALSCALE:GREGORIAN
METHOD:PUBLISH
X-WR-CALNAME:IAMCP UK
X-ORIGINAL-URL:https://iamcp.co.uk
X-WR-CALDESC:Events for IAMCP UK
REFRESH-INTERVAL;VALUE=DURATION:PT1H
X-Robots-Tag:noindex
X-PUBLISHED-TTL:PT1H
BEGIN:VTIMEZONE
TZID:Europe/London
BEGIN:DAYLIGHT
TZOFFSETFROM:+0000
TZOFFSETTO:+0100
TZNAME:BST
DTSTART:20250330T010000
END:DAYLIGHT
BEGIN:STANDARD
TZOFFSETFROM:+0100
TZOFFSETTO:+0000
TZNAME:GMT
DTSTART:20251026T010000
END:STANDARD
BEGIN:DAYLIGHT
TZOFFSETFROM:+0000
TZOFFSETTO:+0100
TZNAME:BST
DTSTART:20260329T010000
END:DAYLIGHT
BEGIN:STANDARD
TZOFFSETFROM:+0100
TZOFFSETTO:+0000
TZNAME:GMT
DTSTART:20261025T010000
END:STANDARD
BEGIN:DAYLIGHT
TZOFFSETFROM:+0000
TZOFFSETTO:+0100
TZNAME:BST
DTSTART:20270328T010000
END:DAYLIGHT
BEGIN:STANDARD
TZOFFSETFROM:+0100
TZOFFSETTO:+0000
TZNAME:GMT
DTSTART:20271031T010000
END:STANDARD
END:VTIMEZONE
BEGIN:VEVENT
DTSTART;TZID=Europe/London:20260415T140000
DTEND;TZID=Europe/London:20260415T150000
DTSTAMP:20260421T192411
CREATED:20260331T110749Z
LAST-MODIFIED:20260331T131818Z
UID:20420-1776261600-1776265200@iamcp.co.uk
SUMMARY:IAMCP EMEA Office Hour - Real Partner Dialogue
DESCRIPTION:The IAMCP EMEA Officehour is a brand-new\, members-only format designed to bring the Microsoft partner community closer to the topics that matter most right now. It’s an exciting new space for insight\, discussion\, and direct exchange between Microsoft and IAMCP partners. \n\n\n\nIn these sessions\, partners will receive timely updates on key developments across the Microsoft ecosystem—from program changes\, incentives\, and licensing updates to security\, compliance\, AI\, Copilot\, and broader strategic topics. But the Officehour is more than just an update session: it’s a two-way dialogue. \n\n\n\nPartners can ask questions\, share perspectives\, and better understand the real business impact of Microsoft initiatives. At the same time\, Microsoft gains a valuable channel to stay closely connected with the partner ecosystem—especially with mid-sized and smaller partners—and to communicate priorities\, expectations\, and opportunities directly to the community. \n\n\n\nWe are excited to kick off this new series in April with a session on Digital Sovereignty—a topic that is currently shaping many strategic discussions across the ecosystem. \n\n\n\nThe IAMCP Officehour sessions will be hosted by our Microsoft Alliance Lead Susanne and IAMCP EMEA President Anders\, in close collaboration with Microsoft leadership. \n\n\n\nStarting in April 2026\, the IAMCP EMEA Officehour will take place regularly on the second Wednesday of each month at 3:00 PM (CET). \n\n\n\n🚀A new format. Open conversations. Real partner insights.
URL:https://iamcp.co.uk/event/iamcp-emea-office-hour-real-partner-dialogue/
CATEGORIES:Event,IAMCP
ATTACH;FMTTYPE=image/png:https://iamcp.co.uk/wp-content/uploads/2024/09/logo1.png
END:VEVENT
BEGIN:VEVENT
DTSTART;TZID=Europe/London:20260430T100000
DTEND;TZID=Europe/London:20260430T104500
DTSTAMP:20260421T192411
CREATED:20260317T092833Z
LAST-MODIFIED:20260317T093144Z
UID:20400-1777543200-1777545900@iamcp.co.uk
SUMMARY:Connect & Thrive with IAMCP UK&I (April 2026 Meeting)
DESCRIPTION:Welcome to the IAMCP’s monthly onboarding meeting\, where both new and existing UK&I chapter members can discover the full benefits of their membership. This session is an excellent opportunity to deepen your understanding of the IAMCP\, engage with fellow members\, and embrace our community’s commitment to mutual learning and support. It’s the perfect setting to build connections and share experiences in a welcoming and relaxed atmosphere. Join us to start making the most of our vibrant community today!
URL:https://iamcp.co.uk/event/connect-thrive-with-iamcp-uki-april-meeting/
CATEGORIES:Event,IAMCP
ATTACH;FMTTYPE=image/jpeg:https://iamcp.co.uk/wp-content/uploads/2024/11/Connect-Thrive-Events-image.jpg
END:VEVENT
BEGIN:VEVENT
DTSTART;TZID=Europe/London:20260513T140000
DTEND;TZID=Europe/London:20260513T150000
DTSTAMP:20260421T192411
CREATED:20260421T143249Z
LAST-MODIFIED:20260421T143252Z
UID:20485-1778680800-1778684400@iamcp.co.uk
SUMMARY:IAMCP EMEA Officehour - Real Partner Dialogue
DESCRIPTION:The IAMCP EMEA Officehour is a brand-new\, members-only format designed to bring the Microsoft partner community closer to the topics that matter most right now. It’s an exciting new space for insight\, discussion\, and direct exchange between Microsoft and IAMCP partners. \n\n\n\nIn these virtual sessions\, partners will receive timely updates on key developments across the Microsoft ecosystem—from program changes\, incentives\, and licensing updates to security\, compliance\, AI\, Copilot\, and broader strategic topics. But the Officehour is more than just an update session: it’s a two-way dialogue. \n\n\n\nPartners can ask questions\, share perspectives\, and better understand the real business impact of Microsoft initiatives. At the same time\, Microsoft gains a valuable channel to stay closely connected with the partner ecosystem—especially with mid-sized and smaller partners—and to communicate priorities\, expectations\, and opportunities directly to the community. \n\n\n\nThe IAMCP Officehour sessions will be hosted by our Microsoft Alliance Lead Susanne and IAMCP EMEA President Anders\, in close collaboration with Microsoft leadership.
URL:https://iamcp.co.uk/event/iamcp-emea-officehour-real-partner-dialogue/
CATEGORIES:Event,IAMCP
ATTACH;FMTTYPE=image/png:https://iamcp.co.uk/wp-content/uploads/2024/09/logo1.png
END:VEVENT
BEGIN:VEVENT
DTSTART;TZID=Europe/London:20260528T100000
DTEND;TZID=Europe/London:20260528T104500
DTSTAMP:20260421T192411
CREATED:20260331T132145Z
LAST-MODIFIED:20260331T132149Z
UID:20428-1779962400-1779965100@iamcp.co.uk
SUMMARY:Connect & Thrive with IAMCP UK&I (May 2026 Meeting)
DESCRIPTION:Welcome to the IAMCP’s monthly onboarding meeting\, where both new and existing UK&I chapter members can discover the full benefits of their membership.  \n\n\n\nThis session is an excellent opportunity to deepen your understanding of the IAMCP\, engage with fellow members\, and embrace our community’s commitment to mutual learning and support. \n\n\n\nIt’s the perfect setting to build connections and share experiences in a welcoming and relaxed atmosphere. Join us to start making the most of our vibrant community today!
URL:https://iamcp.co.uk/event/connect-thrive-with-iamcp-uki-may-2026-meeting/
CATEGORIES:Event,IAMCP
ATTACH;FMTTYPE=image/jpeg:https://iamcp.co.uk/wp-content/uploads/2024/11/Connect-Thrive-Events-image.jpg
END:VEVENT
BEGIN:VEVENT
DTSTART;TZID=Europe/London:20260603T183000
DTEND;TZID=Europe/London:20260603T203000
DTSTAMP:20260421T192411
CREATED:20260311T120026Z
LAST-MODIFIED:20260416T111043Z
UID:20392-1780511400-1780518600@iamcp.co.uk
SUMMARY:IAMCP Scottish Summer Social
DESCRIPTION:Please join us for an evening of informal networking with fellow IAMCP members and friends.  \n\n\n\nIAMCP will sponsor a few rounds of drinks\, and all community members are welcome. Please register to help us plan.
URL:https://iamcp.co.uk/event/iamcp-uki-community-social-edinburgh/
LOCATION:All Bar One\, George St\, Edinburgh\, 29-31 George St\, Edinburgh\, EH2 2PA
CATEGORIES:Event,IAMCP
ATTACH;FMTTYPE=image/jpeg:https://iamcp.co.uk/wp-content/uploads/2026/03/IAMCP-Scottish-Summer-Social.jpg
END:VEVENT
BEGIN:VEVENT
DTSTART;TZID=Europe/London:20260625T100000
DTEND;TZID=Europe/London:20260625T104500
DTSTAMP:20260421T192411
CREATED:20260420T151010Z
LAST-MODIFIED:20260420T151014Z
UID:20471-1782381600-1782384300@iamcp.co.uk
SUMMARY:Connect & Thrive with IAMCP UK&I (June 2026 Meeting)
DESCRIPTION:Welcome to the IAMCP’s monthly onboarding meeting (virtual)\, where both new and existing UK&I chapter members can discover the full benefits of their membership.  \n\n\n\nThis session is an excellent opportunity to deepen your understanding of the IAMCP\, engage with fellow members\, and embrace our community’s commitment to mutual learning and support. \n\n\n\nIt’s the perfect setting to build connections and share experiences in a welcoming and relaxed atmosphere. Join us to start making the most of our vibrant community today!
URL:https://iamcp.co.uk/event/connect-thrive-with-iamcp-uki-june-2026-meeting/
CATEGORIES:Event,IAMCP
ATTACH;FMTTYPE=image/jpeg:https://iamcp.co.uk/wp-content/uploads/2024/11/Connect-Thrive-Events-image.jpg
END:VEVENT
BEGIN:VEVENT
DTSTART;TZID=Europe/London:20260910T091500
DTEND;TZID=Europe/London:20260910T160000
DTSTAMP:20260421T192411
CREATED:20260421T102059Z
LAST-MODIFIED:20260421T102102Z
UID:20481-1789031700-1789056000@iamcp.co.uk
SUMMARY:IAMCP UK&I Partner Exchange (London)
DESCRIPTION:We’re excited to announce our next IAMCP UK&I Partner Exchange event\, hosted at Microsoft’s Paddington offices. This gathering brings together the UK&I partner community for a day of insights\, networking\, and collaboration.  \n\n\n\nMore information and registration coming soon – in the meantime\, save the date!
URL:https://iamcp.co.uk/event/iamcp-uki-partner-exchange-london/
LOCATION:Microsoft Paddington\, 2 Kingdom St\, Paddington\, London\, W2 6BD
CATEGORIES:Event,IAMCP
ATTACH;FMTTYPE=image/png:https://iamcp.co.uk/wp-content/uploads/2026/01/UK-Ireland-v01.png
END:VEVENT
END:VCALENDAR