BEGIN:VCALENDAR
VERSION:2.0
PRODID:-//IAMCP UK - ECPv6.15.20//NONSGML v1.0//EN
CALSCALE:GREGORIAN
METHOD:PUBLISH
X-WR-CALNAME:IAMCP UK
X-ORIGINAL-URL:https://iamcp.co.uk
X-WR-CALDESC:Events for IAMCP UK
REFRESH-INTERVAL;VALUE=DURATION:PT1H
X-Robots-Tag:noindex
X-PUBLISHED-TTL:PT1H
BEGIN:VTIMEZONE
TZID:Europe/London
BEGIN:DAYLIGHT
TZOFFSETFROM:+0000
TZOFFSETTO:+0100
TZNAME:BST
DTSTART:20250330T010000
END:DAYLIGHT
BEGIN:STANDARD
TZOFFSETFROM:+0100
TZOFFSETTO:+0000
TZNAME:GMT
DTSTART:20251026T010000
END:STANDARD
BEGIN:DAYLIGHT
TZOFFSETFROM:+0000
TZOFFSETTO:+0100
TZNAME:BST
DTSTART:20260329T010000
END:DAYLIGHT
BEGIN:STANDARD
TZOFFSETFROM:+0100
TZOFFSETTO:+0000
TZNAME:GMT
DTSTART:20261025T010000
END:STANDARD
BEGIN:DAYLIGHT
TZOFFSETFROM:+0000
TZOFFSETTO:+0100
TZNAME:BST
DTSTART:20270328T010000
END:DAYLIGHT
BEGIN:STANDARD
TZOFFSETFROM:+0100
TZOFFSETTO:+0000
TZNAME:GMT
DTSTART:20271031T010000
END:STANDARD
END:VTIMEZONE
BEGIN:VEVENT
DTSTART;TZID=Europe/London:20260120T100000
DTEND;TZID=Europe/London:20260120T110000
DTSTAMP:20260419T195850
CREATED:20251030T124407Z
LAST-MODIFIED:20251030T124719Z
UID:20153-1768903200-1768906800@iamcp.co.uk
SUMMARY:Partner for Success: Best Practices in Partner Center & Microsoft Programmes
DESCRIPTION:Discover how to optimise Partner Center\, unlock promotions\, and drive partner success through actionable insights and real-world examples.  \n\n\n\nJoin IAMCP for an insightful session led by Kate Balgowan\, Lindsay Climson\, and Lucy Bourne\, as they share practical guidance and expert tips on making the most of Microsoft’s Partner Center and programmes. This webinar will explore how you can unlock Microsoft programmes through and promotional opportunities\, drive growth through effective use of Microsoft tools and incentives and champion Partner Center best practices within your organisation. \n\n\n\nWhether you’re new to Partner Center or looking to optimise your engagement\, this session will provide actionable strategies\, real-world examples\, and answers to common partner questions. Learn how to align with Microsoft’s priorities\, leverage available resources\, and build stronger\, more impactful partnerships.
URL:https://iamcp.co.uk/event/partner-for-success-best-practices-in-partner-center-microsoft-programmes/
CATEGORIES:Event,IAMCP
ATTACH;FMTTYPE=image/png:https://iamcp.co.uk/wp-content/uploads/2024/09/IAMCP_UK_black_text_v01.png
END:VEVENT
END:VCALENDAR